BEGIN:VCALENDAR
VERSION:2.0
PRODID:SchoolNow
CALSCALE:GREGORIAN
BEGIN:VEVENT
UID:26c1ee5e-779d-11f0-9ee3-0a58a9feac02
DTSTAMP:20250812T165529Z
SUMMARY:Harrison Volleyball hosts Buena Vista MS
LOCATION:920 Field Ave\, Canon City CO
URL;VALUE=URI:https://www.canoncityschools.org/schools/harrison/calendar/84
 94557/harrison-volleyball-hosts-buena-vista-ms
DTSTART:20250929T220000Z
DTEND:20250930T010000Z
END:VEVENT
END:VCALENDAR
