BEGIN:VCALENDAR
VERSION:2.0
PRODID:SchoolNow
CALSCALE:GREGORIAN
BEGIN:VEVENT
UID:3c77b9be-77b0-11f0-906b-0a58a9feac02
DTSTAMP:20250812T191206Z
SUMMARY:Harrison Cross Country at Pathfinder Park
LOCATION:6655 CO-115\, Florence\, CO 81226
URL;VALUE=URI:https://www.canoncityschools.org/schools/harrison/calendar/84
 94669/harrison-cross-country-at-pathfinder-park
DTSTART:20250821T220000Z
DTEND:20250821T230000Z
END:VEVENT
END:VCALENDAR
