BEGIN:VCALENDAR
VERSION:2.0
PRODID:SchoolNow
CALSCALE:GREGORIAN
BEGIN:VEVENT
UID:df15862c-77b2-11f0-972f-0a58a9feac02
DTSTAMP:20250812T193057Z
SUMMARY:Harrison Cross Country at Buena Vista
LOCATION:549 S Railroad St\, Buena Vista\, CO 81211
URL;VALUE=URI:https://www.canoncityschools.org/schools/harrison/calendar/84
 95511/harrison-cross-country-at-buena-vista
DTSTART:20250828T220000Z
DTEND:20250829T000000Z
END:VEVENT
END:VCALENDAR
