BEGIN:VCALENDAR
VERSION:2.0
PRODID:SchoolNow
CALSCALE:GREGORIAN
BEGIN:VEVENT
UID:c87daaec-77b3-11f0-9173-0a58a9feac02
DTSTAMP:20250812T193729Z
SUMMARY:Harrison Cross Country at Woodland Park
LOCATION:220 W South Ave Woodland Park \, CO 80866
URL;VALUE=URI:https://www.canoncityschools.org/schools/harrison/calendar/84
 95513/harrison-cross-country-at-woodland-park
DTSTART:20250904T220000Z
DTEND:20250905T003000Z
END:VEVENT
END:VCALENDAR
