BEGIN:VCALENDAR
VERSION:2.0
PRODID:SchoolNow
CALSCALE:GREGORIAN
BEGIN:VEVENT
UID:391ffd0e-77b4-11f0-aca2-0a58a9feac02
DTSTAMP:20250904T165518Z
SUMMARY:Harrison Cross Country at Harrison k-8 School
LOCATION:920 Field Ave\, Canon City CO
URL;VALUE=URI:https://www.canoncityschools.org/schools/harrison/calendar/84
 95514/harrison-cross-country-at-eco-park
DTSTART:20250911T220000Z
DTEND:20250912T003000Z
END:VEVENT
END:VCALENDAR
