BEGIN:VCALENDAR
VERSION:2.0
PRODID:SchoolNow
CALSCALE:GREGORIAN
BEGIN:VEVENT
UID:86167610-77b4-11f0-9f07-0a58a9feac02
DTSTAMP:20250812T194247Z
SUMMARY:Cross Country Invitational
LOCATION:TBA
URL;VALUE=URI:https://www.canoncityschools.org/schools/harrison/calendar/84
 95515/cross-country-invitational
DTSTART:20250920T150000Z
DTEND:20250920T170000Z
END:VEVENT
END:VCALENDAR
