BEGIN:VCALENDAR
VERSION:2.0
PRODID:SchoolNow
CALSCALE:GREGORIAN
BEGIN:VEVENT
UID:28ec8316-77b5-11f0-ae09-02a999df172f
DTSTAMP:20250812T194720Z
SUMMARY:Harrison Cross Country at Royal Gorge Bridge
LOCATION:4218 Co Rd 3A\, Cañon City\, CO 81212
URL;VALUE=URI:https://www.canoncityschools.org/schools/harrison/calendar/84
 96672/harrison-cross-country-at-royal-gorge-bridge
DTSTART:20250925T210000Z
DTEND:20250925T230000Z
END:VEVENT
END:VCALENDAR
