BEGIN:VCALENDAR
VERSION:2.0
PRODID:SchoolNow
CALSCALE:GREGORIAN
BEGIN:VEVENT
UID:91f058c8-77b6-11f0-9af8-02aca8e1564d
DTSTAMP:20250812T195726Z
SUMMARY:Harrison Football hosts Salida MS
LOCATION:1215 Main St \, Cañon City\, CO 81212
URL;VALUE=URI:https://www.canoncityschools.org/schools/harrison/calendar/84
 96867/harrison-football-hosts-salida-ms
DTSTART:20250903T220000Z
DTEND:20250904T003000Z
END:VEVENT
END:VCALENDAR
