BEGIN:VCALENDAR
VERSION:2.0
PRODID:SchoolNow
CALSCALE:GREGORIAN
BEGIN:VEVENT
UID:01b93724-77b7-11f0-b0da-0a58a9feac02
DTSTAMP:20250812T200034Z
SUMMARY:Harrison Football at Florence Jr/Sr High School
LOCATION:2006 CO-67\, Florence\, CO 81226
URL;VALUE=URI:https://www.canoncityschools.org/schools/harrison/calendar/84
 96868/harrison-football-at-florence-jr-sr-high-school
DTSTART:20250910T220000Z
DTEND:20250911T003000Z
END:VEVENT
END:VCALENDAR
