BEGIN:VCALENDAR
VERSION:2.0
PRODID:SchoolNow
CALSCALE:GREGORIAN
BEGIN:VEVENT
UID:69301ddc-77b7-11f0-8a1d-0a58a9feac02
DTSTAMP:20250812T200327Z
SUMMARY:Harrison Football hosts Buena Vista MS
LOCATION:1215 Main St. Cañon City\, CO 81212
URL;VALUE=URI:https://www.canoncityschools.org/schools/harrison/calendar/84
 96869/harrison-football-hosts-buena-vista-ms
DTSTART:20250917T220000Z
DTEND:20250918T003000Z
END:VEVENT
END:VCALENDAR
