BEGIN:VCALENDAR
VERSION:2.0
PRODID:SchoolNow
CALSCALE:GREGORIAN
BEGIN:VEVENT
UID:b6a7d3ac-77b7-11f0-8f54-0affeaa60e11
DTSTAMP:20250812T200537Z
SUMMARY:Harrison Football at Woodland Park MS
LOCATION:155 Panther Way\, Woodland Park\, CO 80863
URL;VALUE=URI:https://www.canoncityschools.org/schools/harrison/calendar/84
 96870/harrison-football-at-woodland-park-ms
DTSTART:20250924T220000Z
DTEND:20250925T003000Z
END:VEVENT
END:VCALENDAR
