BEGIN:VCALENDAR
VERSION:2.0
PRODID:SchoolNow
CALSCALE:GREGORIAN
BEGIN:VEVENT
UID:7cbfb37e-7c50-11f0-ae36-0a58a9feac02
DTSTAMP:20250818T215744Z
SUMMARY:1st PTO meeting of this school year Wednesday Aug. 27
LOCATION:920 Field Ave Canon City
URL;VALUE=URI:https://www.canoncityschools.org/schools/harrison/calendar/85
 18845/1st-pto-meeting-of-this-school-year
DTSTART:20250827T230000Z
DTEND:20250828T000000Z
END:VEVENT
END:VCALENDAR
