BEGIN:VCALENDAR
VERSION:2.0
PRODID:SchoolNow
CALSCALE:GREGORIAN
BEGIN:VEVENT
UID:bce24180-7c76-11f0-91a4-0a58a9feac02
DTSTAMP:20250818T210306Z
SUMMARY:Harrison Open House
LOCATION:920 Field Ave Canon City
URL;VALUE=URI:https://www.canoncityschools.org/schools/harrison/calendar/85
 19150/harrison-open-house
DTSTART:20250911T230000Z
DTEND:20250912T003000Z
END:VEVENT
END:VCALENDAR
