BEGIN:VCALENDAR
VERSION:2.0
PRODID:SchoolNow
CALSCALE:GREGORIAN
BEGIN:VEVENT
UID:6be89d18-842f-11f0-865e-0a58a9feac02
DTSTAMP:20250828T165245Z
SUMMARY:Middle School Mountain Bike Club
LOCATION:Harrison k-8  920 Field Ave\, Canon City
URL;VALUE=URI:https://www.canoncityschools.org/schools/harrison/calendar/85
 54127/middle-school-mountain-bike-club
DTSTART:20250903T213000Z
DTEND:20250903T220000Z
ATTACH;FILENAME=Mt Bike_0001.jpg;FMTTYPE=image/jpeg:https://campussuite-sto
 rage.s3.amazonaws.com/prod/1559007/be93858e-5cb0-11ea-aec8-127d75a5caed/30
 00643/13d11224-842d-11f0-a6f5-0affe63eb943/file/Mt Bike_0001.jpg
END:VEVENT
END:VCALENDAR
