BEGIN:VCALENDAR
VERSION:2.0
PRODID:SchoolNow
CALSCALE:GREGORIAN
BEGIN:VEVENT
UID:e844ad06-886d-11f0-9929-027d2537fb2b
DTSTAMP:20251216T154529Z
SUMMARY:Harrison football vs Salida MS
LOCATION:1215 Main St\, Cañon City\, CO 81212\, USA
URL;VALUE=URI:https://www.canoncityschools.org/schools/harrison/calendar/85
 72946/harrison-football-vs-salida-ms
DTSTART:20250903T220000Z
DTEND:20250904T000000Z
END:VEVENT
END:VCALENDAR
