BEGIN:VCALENDAR
VERSION:2.0
PRODID:SchoolNow
CALSCALE:GREGORIAN
BEGIN:VEVENT
UID:e844b0c6-886d-11f0-8f5f-027d2537fb2b
DTSTAMP:20251216T154529Z
SUMMARY:Harrison Volleyball at Florence Sr/Jr High
LOCATION:Florence JR/SR High School\, 2006 CO-67\, Florence\, CO 81226\, US
 A
URL;VALUE=URI:https://www.canoncityschools.org/schools/harrison/calendar/85
 72947/harrison-volleyball-at-florence-sr-jr-high
DTSTART:20250903T220000Z
DTEND:20250904T010000Z
END:VEVENT
END:VCALENDAR
