BEGIN:VCALENDAR
VERSION:2.0
PRODID:SchoolNow
CALSCALE:GREGORIAN
BEGIN:VEVENT
UID:19864384-89a9-11f0-b59e-0affc1bf85c7
DTSTAMP:20250904T160621Z
SUMMARY:September PTO Meeting
LOCATION:920 Field Ave
URL;VALUE=URI:https://www.canoncityschools.org/schools/harrison/calendar/85
 80440/september-pto-meeting
DTSTART:20250924T230000Z
DTEND:20250925T000000Z
END:VEVENT
END:VCALENDAR
