BEGIN:VCALENDAR
VERSION:2.0
PRODID:SchoolNow
CALSCALE:GREGORIAN
BEGIN:VEVENT
UID:e9682846-89aa-11f0-8f0e-0eda9216a9fd
DTSTAMP:20250904T161920Z
SUMMARY:First House Assembly of 2025-26 school year
URL;VALUE=URI:https://www.canoncityschools.org/schools/harrison/calendar/85
 80460/first-house-assembly-of-2025-26-school-year
DTSTART:20250905T201500Z
DTEND:20250905T211000Z
END:VEVENT
END:VCALENDAR
