BEGIN:VCALENDAR
VERSION:2.0
PRODID:SchoolNow
CALSCALE:GREGORIAN
BEGIN:VEVENT
UID:bd594270-89c9-11f0-a674-022e31aca1f7
DTSTAMP:20250904T202511Z
SUMMARY:Girls Basketball at Buena Vista Middle School
LOCATION:549 S Railroad St. Buena Vista\, CO
URL;VALUE=URI:https://www.canoncityschools.org/schools/harrison/calendar/85
 80845/girls-basketball-at-woodland-park-jr-sr-high
DTSTART:20260112T233000Z
DTEND:20260113T023000Z
END:VEVENT
END:VCALENDAR
