BEGIN:VCALENDAR
VERSION:2.0
PRODID:SchoolNow
CALSCALE:GREGORIAN
BEGIN:VEVENT
UID:6ab01422-8f46-11f0-ae0b-0affd69af163
DTSTAMP:20250911T193504Z
SUMMARY:Middle School Parent/Teacher Conferences
URL;VALUE=URI:https://www.canoncityschools.org/schools/harrison/calendar/86
 10246/middle-school-parent-teacher-conferences
DTSTART:20250923T230000Z
DTEND:20250924T010000Z
END:VEVENT
END:VCALENDAR
