BEGIN:VCALENDAR
VERSION:2.0
PRODID:SchoolNow
CALSCALE:GREGORIAN
BEGIN:VEVENT
UID:7fb592fc-8f46-11f0-9045-0a58a9feac02
DTSTAMP:20250911T193540Z
SUMMARY:Middle School Parent/Teacher Conferences
URL;VALUE=URI:https://www.canoncityschools.org/schools/harrison/calendar/86
 10277/middle-school-parent-teacher-conferences
DTSTART:20250925T230000Z
DTEND:20250926T010000Z
END:VEVENT
END:VCALENDAR
