BEGIN:VCALENDAR
VERSION:2.0
PRODID:SchoolNow
CALSCALE:GREGORIAN
BEGIN:VEVENT
UID:aa88787e-aeb2-11f0-b51d-0a58a9feac02
DTSTAMP:20251021T191803Z
SUMMARY:Boys Basketball League Championship Games
LOCATION:TBD
URL;VALUE=URI:https://www.canoncityschools.org/schools/harrison/calendar/87
 39703/boys-basketball-league-championship-games
DTSTART:20251122T000000Z
DTEND:20251122T020000Z
END:VEVENT
END:VCALENDAR
