BEGIN:VCALENDAR
VERSION:2.0
PRODID:SchoolNow
CALSCALE:GREGORIAN
BEGIN:VEVENT
UID:7f3b36aa-d551-11f0-b112-0a58a9feac02
DTSTAMP:20251209T225045Z
SUMMARY:Santa vs Grinch
URL;VALUE=URI:https://www.canoncityschools.org/schools/harrison/calendar/88
 20860/santa-vs-grinch
DTSTART;VALUE=DATE:20251216
DTEND;VALUE=DATE:20251217
END:VEVENT
END:VCALENDAR
