BEGIN:VCALENDAR
VERSION:2.0
PRODID:SchoolNow
CALSCALE:GREGORIAN
BEGIN:VEVENT
UID:4b0f57e8-d9f3-11f0-a56c-0a58a9feac02
DTSTAMP:20251215T201900Z
SUMMARY:Elementary Choir & Band Program
LOCATION:920 Field Ave
URL;VALUE=URI:https://www.canoncityschools.org/schools/harrison/calendar/88
 24023/elementary-choir-band-program
DTSTART:20251216T010000Z
DTEND:20251216T020000Z
END:VEVENT
END:VCALENDAR
