BEGIN:VCALENDAR
VERSION:2.0
PRODID:SchoolNow
CALSCALE:GREGORIAN
BEGIN:VEVENT
UID:9dd16cb4-d9f3-11f0-bfcf-020fd1fbdfd5
DTSTAMP:20251215T202119Z
SUMMARY:Santa Shop
URL;VALUE=URI:https://www.canoncityschools.org/schools/harrison/calendar/88
 24025/santa-shop
DTSTART:20251215T153000Z
DTEND:20251215T223000Z
END:VEVENT
END:VCALENDAR
