BEGIN:VCALENDAR
VERSION:2.0
PRODID:SchoolNow
CALSCALE:GREGORIAN
BEGIN:VEVENT
UID:3fbb977e-39b3-11f1-ba13-0affe2f53d8d
DTSTAMP:20260416T164225Z
SUMMARY:8th grade Club Crawl for upcoming freshman
LOCATION:Canon City High School  1313 College Ave \, Canon City
URL;VALUE=URI:https://www.canoncityschools.org/schools/harrison/calendar/89
 98223/8th-grade-club-crawl-for-upcoming-freshman
DTSTART:20260421T233000Z
DTEND:20260422T003000Z
ATTACH;FILENAME=Club Crawl 2026 (1).pdf;FMTTYPE=application/pdf:https://cam
 pussuite-storage.s3.amazonaws.com/prod/1559007/be93858e-5cb0-11ea-aec8-127
 d75a5caed/3090101/ce6c9e88-39b2-11f1-a2a5-0a58a9feac02/file/Club Crawl 202
 6 (1).pdf
END:VEVENT
END:VCALENDAR
