BEGIN:VCALENDAR
VERSION:2.0
PRODID:SchoolNow
CALSCALE:GREGORIAN
BEGIN:VEVENT
UID:0592b5da-6060-11ed-b415-02df8be68e99
DTSTAMP:20221109T185504Z
SUMMARY:Boys Basketball vs. Palmer
URL;VALUE=URI:https://www.canoncityschools.org/schools/high-school/calendar
 /3599932/boys-basketball-vs-palmer
DTSTART:20230203T020000Z
DTEND:20230203T040000Z
END:VEVENT
END:VCALENDAR
