BEGIN:VCALENDAR
VERSION:2.0
PRODID:SchoolNow
CALSCALE:GREGORIAN
BEGIN:VEVENT
UID:ceb7e628-baf1-11ee-a4ab-0a58a9feac02
DTSTAMP:20251216T214648Z
SUMMARY:Board of Education meeting
LOCATION:101 N 14th St\, Cañon City\, CO 81212\, USA
URL;VALUE=URI:https://www.canoncityschools.org/schools/washington/calendar/
 5203280/board-of-education-meeting
DTSTART:20250922T233000Z
DTEND:20250923T003000Z
END:VEVENT
END:VCALENDAR
