BEGIN:VCALENDAR
VERSION:2.0
PRODID:SchoolNow
CALSCALE:GREGORIAN
BEGIN:VEVENT
UID:021785d6-e65e-11ee-8a3e-0a58a9feac02
DTSTAMP:20251216T214648Z
SUMMARY:Board of Education meeting
LOCATION:101 N 14th St\, Cañon City\, CO 81212\, USA
URL;VALUE=URI:https://www.canoncityschools.org/schools/washington/calendar/
 5584847/board-of-education-meeting
DTSTART:20251111T003000Z
DTEND:20251111T013000Z
END:VEVENT
END:VCALENDAR
