BEGIN:VCALENDAR
VERSION:2.0
PRODID:SchoolNow
CALSCALE:GREGORIAN
BEGIN:VEVENT
UID:77711a36-eb8b-11ee-900b-0a58a9feac02
DTSTAMP:20251216T214648Z
SUMMARY:*canceled* Board of Education meeting
LOCATION:101 N 14th St\, Cañon City\, CO 81212\, USA
URL;VALUE=URI:https://www.canoncityschools.org/schools/washington/calendar/
 5635842/canceled-board-of-education-meeting
DTSTART:20251125T003000Z
DTEND:20251125T013000Z
END:VEVENT
END:VCALENDAR
