BEGIN:VCALENDAR
VERSION:2.0
PRODID:SchoolNow
CALSCALE:GREGORIAN
BEGIN:VEVENT
UID:d710fb26-f916-11ee-bb24-0e1918b470ed
DTSTAMP:20251216T214648Z
SUMMARY:Board of Education meeting
LOCATION:101 N 14th St\, Cañon City\, CO 81212\, USA
URL;VALUE=URI:https://www.canoncityschools.org/schools/washington/calendar/
 5768649/board-of-education-meeting
DTSTART:20251209T003000Z
DTEND:20251209T013000Z
END:VEVENT
END:VCALENDAR
