BEGIN:VCALENDAR
VERSION:2.0
PRODID:SchoolNow
CALSCALE:GREGORIAN
BEGIN:VEVENT
UID:9fb1e7a4-1df0-11ef-9854-0affe5f05c49
DTSTAMP:20251216T214648Z
SUMMARY:Board of Education meeting
LOCATION:101 N 14th St\, Cañon City\, CO 81212\, USA
URL;VALUE=URI:https://www.canoncityschools.org/schools/washington/calendar/
 6046735/board-of-education-meeting
DTSTART:20260127T003000Z
DTEND:20260127T013000Z
END:VEVENT
END:VCALENDAR
