BEGIN:VCALENDAR
VERSION:2.0
PRODID:SchoolNow
CALSCALE:GREGORIAN
BEGIN:VEVENT
UID:75e9109a-28e6-11ef-a8a1-0a58a9feac02
DTSTAMP:20251216T214648Z
SUMMARY:Board of Education meeting
LOCATION:101 N 14th St\, Cañon City\, CO 81212\, USA
URL;VALUE=URI:https://www.canoncityschools.org/schools/washington/calendar/
 6113030/board-of-education-meeting
DTSTART:20260210T003000Z
DTEND:20260210T013000Z
END:VEVENT
END:VCALENDAR
