BEGIN:VCALENDAR
VERSION:2.0
PRODID:SchoolNow
CALSCALE:GREGORIAN
BEGIN:VEVENT
UID:070de004-349b-11ef-9f43-0a58a9feac02
DTSTAMP:20251216T214648Z
SUMMARY:Board of Education meeting
LOCATION:101 N 14th St\, Cañon City\, CO 81212\, USA
URL;VALUE=URI:https://www.canoncityschools.org/schools/washington/calendar/
 6175615/board-of-education-meeting
DTSTART:20260224T003000Z
DTEND:20260224T013000Z
END:VEVENT
END:VCALENDAR
