BEGIN:VCALENDAR
VERSION:2.0
PRODID:SchoolNow
CALSCALE:GREGORIAN
BEGIN:VEVENT
UID:483df8ca-6669-11ef-ba2a-0a58a9feac02
DTSTAMP:20251216T214648Z
SUMMARY:Board of Education meeting
LOCATION:101 N 14th St\, Cañon City\, CO 81212\, USA
URL;VALUE=URI:https://www.canoncityschools.org/schools/washington/calendar/
 6485652/board-of-education-meeting
DTSTART:20260427T233000Z
DTEND:20260428T003000Z
END:VEVENT
END:VCALENDAR
