BEGIN:VCALENDAR
VERSION:2.0
PRODID:SchoolNow
CALSCALE:GREGORIAN
BEGIN:VEVENT
UID:5fb2a974-926f-11ef-97b8-0a58a9feac02
DTSTAMP:20251216T214648Z
SUMMARY:Board of Education meeting
LOCATION:101 N 14th St\, Cañon City\, CO 81212\, USA
URL;VALUE=URI:https://www.canoncityschools.org/schools/washington/calendar/
 6892931/board-of-education-meeting
DTSTART:20260608T233000Z
DTEND:20260609T003000Z
END:VEVENT
END:VCALENDAR
