BEGIN:VCALENDAR
VERSION:2.0
PRODID:SchoolNow
CALSCALE:GREGORIAN
BEGIN:VEVENT
UID:243aed08-be74-11ef-b5a1-0223b1ab035b
DTSTAMP:20251216T214648Z
SUMMARY:Board of Education meeting
LOCATION:101 N 14th St\, Cañon City\, CO 81212\, USA
URL;VALUE=URI:https://www.canoncityschools.org/schools/washington/calendar/
 7198844/board-of-education-meeting
DTSTART:20260810T233000Z
DTEND:20260811T003000Z
END:VEVENT
END:VCALENDAR
