BEGIN:VCALENDAR
VERSION:2.0
PRODID:SchoolNow
CALSCALE:GREGORIAN
BEGIN:VEVENT
UID:421fa8dc-e9ac-11ef-bd69-0eb194e7c9f7
DTSTAMP:20251216T214647Z
SUMMARY:NO SCHOOL - LABOR DAY
URL;VALUE=URI:https://www.canoncityschools.org/schools/washington/calendar/
 7461013/no-school-labor-day
DTSTART;VALUE=DATE:20250901
DTEND;VALUE=DATE:20250902
END:VEVENT
END:VCALENDAR
