BEGIN:VCALENDAR
VERSION:2.0
PRODID:SchoolNow
CALSCALE:GREGORIAN
BEGIN:VEVENT
UID:421faa44-e9ac-11ef-932e-0eb194e7c9f7
DTSTAMP:20251216T214647Z
SUMMARY:END 1ST QUARTER
URL;VALUE=URI:https://www.canoncityschools.org/schools/washington/calendar/
 7461014/end-1st-quarter
DTSTART;VALUE=DATE:20251009
DTEND;VALUE=DATE:20251010
END:VEVENT
END:VCALENDAR
