BEGIN:VCALENDAR
VERSION:2.0
PRODID:SchoolNow
CALSCALE:GREGORIAN
BEGIN:VEVENT
UID:421fab98-e9ac-11ef-8fa5-0eb194e7c9f7
DTSTAMP:20251216T214647Z
SUMMARY:START OF 2ND QTR
URL;VALUE=URI:https://www.canoncityschools.org/schools/washington/calendar/
 7461015/start-of-2nd-qtr
DTSTART;VALUE=DATE:20251013
DTEND;VALUE=DATE:20251014
END:VEVENT
END:VCALENDAR
