BEGIN:VCALENDAR
VERSION:2.0
PRODID:SchoolNow
CALSCALE:GREGORIAN
BEGIN:VEVENT
UID:421fad8c-e9ac-11ef-9688-0eb194e7c9f7
DTSTAMP:20251216T214647Z
SUMMARY:CAPSTONE GRADING DAY
URL;VALUE=URI:https://www.canoncityschools.org/schools/washington/calendar/
 7461017/capstone-grading-day
DTSTART;VALUE=DATE:20251211
DTEND;VALUE=DATE:20251212
END:VEVENT
END:VCALENDAR
