BEGIN:VCALENDAR
VERSION:2.0
PRODID:SchoolNow
CALSCALE:GREGORIAN
BEGIN:VEVENT
UID:421fb20a-e9ac-11ef-bf19-0eb194e7c9f7
DTSTAMP:20251216T214647Z
SUMMARY:START OF 3RD QUARTER/2ND SEMESTER
URL;VALUE=URI:https://www.canoncityschools.org/schools/washington/calendar/
 7461021/start-of-3rd-quarter-2nd-semester
DTSTART;VALUE=DATE:20260106
DTEND;VALUE=DATE:20260107
END:VEVENT
END:VCALENDAR
