BEGIN:VCALENDAR
VERSION:2.0
PRODID:SchoolNow
CALSCALE:GREGORIAN
BEGIN:VEVENT
UID:421fb746-e9ac-11ef-9097-0eb194e7c9f7
DTSTAMP:20251216T214647Z
SUMMARY:NO SCHOOL - MLK HOLIDAY
URL;VALUE=URI:https://www.canoncityschools.org/schools/washington/calendar/
 7461023/no-school-mlk-holiday
DTSTART;VALUE=DATE:20260119
DTEND;VALUE=DATE:20260120
END:VEVENT
END:VCALENDAR
