BEGIN:VCALENDAR
VERSION:2.0
PRODID:SchoolNow
CALSCALE:GREGORIAN
BEGIN:VEVENT
UID:421fb89a-e9ac-11ef-bad4-0eb194e7c9f7
DTSTAMP:20251216T214647Z
SUMMARY:CAREER PATHWAY DAY @ CCHS
URL;VALUE=URI:https://www.canoncityschools.org/schools/washington/calendar/
 7461025/career-pathway-day-cchs
DTSTART;VALUE=DATE:20260129
DTEND;VALUE=DATE:20260130
END:VEVENT
END:VCALENDAR
