BEGIN:VCALENDAR
VERSION:2.0
PRODID:SchoolNow
CALSCALE:GREGORIAN
BEGIN:VEVENT
UID:421fb99e-e9ac-11ef-b50e-0eb194e7c9f7
DTSTAMP:20251216T214647Z
SUMMARY:NO SCHOOL - PRESIDENTS' DAY
URL;VALUE=URI:https://www.canoncityschools.org/schools/washington/calendar/
 7461028/no-school-presidents-day
DTSTART;VALUE=DATE:20260216
DTEND;VALUE=DATE:20260217
END:VEVENT
END:VCALENDAR
