BEGIN:VCALENDAR
VERSION:2.0
PRODID:SchoolNow
CALSCALE:GREGORIAN
BEGIN:VEVENT
UID:421fba98-e9ac-11ef-9deb-0eb194e7c9f7
DTSTAMP:20251216T214647Z
SUMMARY:END 2nd TRIMESTER (No School Elementary/1/2 Day Secondary)
URL;VALUE=URI:https://www.canoncityschools.org/schools/washington/calendar/
 7461032/end-2nd-trimester-no-school-elementary-1-2-day-secondary
DTSTART;VALUE=DATE:20260220
DTEND;VALUE=DATE:20260221
END:VEVENT
END:VCALENDAR
