BEGIN:VCALENDAR
VERSION:2.0
PRODID:SchoolNow
CALSCALE:GREGORIAN
BEGIN:VEVENT
UID:421fbb88-e9ac-11ef-9a0c-0eb194e7c9f7
DTSTAMP:20251216T214647Z
SUMMARY:END 3RD QTR
URL;VALUE=URI:https://www.canoncityschools.org/schools/washington/calendar/
 7461035/end-3rd-qtr
DTSTART;VALUE=DATE:20260312
DTEND;VALUE=DATE:20260313
END:VEVENT
END:VCALENDAR
