BEGIN:VCALENDAR
VERSION:2.0
PRODID:SchoolNow
CALSCALE:GREGORIAN
BEGIN:VEVENT
UID:421fbc78-e9ac-11ef-a945-0eb194e7c9f7
DTSTAMP:20251216T214647Z
SUMMARY:START 4TH QTR
URL;VALUE=URI:https://www.canoncityschools.org/schools/washington/calendar/
 7461038/start-4th-qtr
DTSTART;VALUE=DATE:20260323
DTEND;VALUE=DATE:20260324
END:VEVENT
END:VCALENDAR
