BEGIN:VCALENDAR
VERSION:2.0
PRODID:SchoolNow
CALSCALE:GREGORIAN
BEGIN:VEVENT
UID:421fbd7c-e9ac-11ef-894c-0eb194e7c9f7
DTSTAMP:20251216T214647Z
SUMMARY:KINDER BUDDY DAY
URL;VALUE=URI:https://www.canoncityschools.org/schools/washington/calendar/
 7461042/kinder-buddy-day
DTSTART;VALUE=DATE:20260507
DTEND;VALUE=DATE:20260508
END:VEVENT
END:VCALENDAR
