BEGIN:VCALENDAR
VERSION:2.0
PRODID:SchoolNow
CALSCALE:GREGORIAN
BEGIN:VEVENT
UID:421fbe6c-e9ac-11ef-8bc8-0eb194e7c9f7
DTSTAMP:20251216T214647Z
SUMMARY:CCHS GRADUATION (6:30)
URL;VALUE=URI:https://www.canoncityschools.org/schools/washington/calendar/
 7461043/cchs-graduation-6-30
DTSTART;VALUE=DATE:20260513
DTEND;VALUE=DATE:20260514
END:VEVENT
END:VCALENDAR
